BEGIN:VCALENDAR
VERSION:2.0
PRODID:-//Clearwater Recreation Commission - ECPv6.15.17.1//NONSGML v1.0//EN
CALSCALE:GREGORIAN
METHOD:PUBLISH
X-ORIGINAL-URL:https://clearwaterrec.org
X-WR-CALDESC:Events for Clearwater Recreation Commission
REFRESH-INTERVAL;VALUE=DURATION:PT1H
X-Robots-Tag:noindex
X-PUBLISHED-TTL:PT1H
BEGIN:VTIMEZONE
TZID:America/Chicago
BEGIN:DAYLIGHT
TZOFFSETFROM:-0600
TZOFFSETTO:-0500
TZNAME:CDT
DTSTART:20210314T080000
END:DAYLIGHT
BEGIN:STANDARD
TZOFFSETFROM:-0500
TZOFFSETTO:-0600
TZNAME:CST
DTSTART:20211107T070000
END:STANDARD
BEGIN:DAYLIGHT
TZOFFSETFROM:-0600
TZOFFSETTO:-0500
TZNAME:CDT
DTSTART:20220313T080000
END:DAYLIGHT
BEGIN:STANDARD
TZOFFSETFROM:-0500
TZOFFSETTO:-0600
TZNAME:CST
DTSTART:20221106T070000
END:STANDARD
BEGIN:DAYLIGHT
TZOFFSETFROM:-0600
TZOFFSETTO:-0500
TZNAME:CDT
DTSTART:20230312T080000
END:DAYLIGHT
BEGIN:STANDARD
TZOFFSETFROM:-0500
TZOFFSETTO:-0600
TZNAME:CST
DTSTART:20231105T070000
END:STANDARD
END:VTIMEZONE
BEGIN:VEVENT
DTSTART;TZID=America/Chicago:20221202T000000
DTEND;TZID=America/Chicago:20221202T235959
DTSTAMP:20260421T051811
CREATED:20221118T172002Z
LAST-MODIFIED:20221128T184025Z
UID:10000159-1669939200-1670025599@clearwaterrec.org
SUMMARY:Youth basketball practices
DESCRIPTION:6:00 pm - CMS gym - Winter (1/2) \n7:00 pm - CMS gym - Charles (3/4G) \n6:00 pm - CIC gym - McNelley (5/6B) \n7:00 pm - Charles (5/6G); Hastings (5/6G)
URL:https://clearwaterrec.org/event/youth-basketball-practices-11/
LOCATION:Kansas
END:VEVENT
BEGIN:VEVENT
DTSTART;TZID=America/Chicago:20221203T080000
DTEND;TZID=America/Chicago:20221203T170000
DTSTAMP:20260421T051811
CREATED:20220920T162719Z
LAST-MODIFIED:20220920T162719Z
UID:10000110-1670054400-1670086800@clearwaterrec.org
SUMMARY:Youth Basketball League Games
DESCRIPTION:1st-6th grade basketball league games.
URL:https://clearwaterrec.org/event/youth-basketball-league-games/2022-12-03/
LOCATION:Kansas
END:VEVENT
BEGIN:VEVENT
DTSTART;TZID=America/Chicago:20221203T150000
DTEND;TZID=America/Chicago:20221203T160000
DTSTAMP:20260421T051811
CREATED:20221103T173743Z
LAST-MODIFIED:20221114T170721Z
UID:10000133-1670079600-1670083200@clearwaterrec.org
SUMMARY:Grinch Christmas Party
DESCRIPTION:Stay tuned for more information!
URL:https://clearwaterrec.org/event/grinch-christmas-party/
LOCATION:Clearwater Public Library\, 109 E. Ross\, Clearwater\, Kansas\, 67026\, United States
END:VEVENT
BEGIN:VEVENT
DTSTART;TZID=America/Chicago:20221204T000000
DTEND;TZID=America/Chicago:20221204T235959
DTSTAMP:20260421T051811
CREATED:20221118T172041Z
LAST-MODIFIED:20221128T184111Z
UID:10000160-1670112000-1670198399@clearwaterrec.org
SUMMARY:Youth basketball practices
DESCRIPTION:4:00 pm - CIC gym - Mellen (5/6B) \n 
URL:https://clearwaterrec.org/event/youth-basketball-practices-12/
LOCATION:Kansas
END:VEVENT
BEGIN:VEVENT
DTSTART;TZID=America/Chicago:20221204T150000
DTEND;TZID=America/Chicago:20221204T160000
DTSTAMP:20260421T051811
CREATED:20221118T170954Z
LAST-MODIFIED:20221128T184255Z
UID:10000155-1670166000-1670169600@clearwaterrec.org
SUMMARY:Basketball open gym
DESCRIPTION:Play pick up basketball games or just shoot hoops with friends.
URL:https://clearwaterrec.org/event/basketball-open-gym-2/
LOCATION:CIC gym\, 140 S. 4th\, Clearwater\, KS\, 67037\, United States
END:VEVENT
BEGIN:VEVENT
DTSTART;TZID=America/Chicago:20221207T000000
DTEND;TZID=America/Chicago:20221207T235959
DTSTAMP:20260421T051811
CREATED:20221118T172223Z
LAST-MODIFIED:20221118T172223Z
UID:10000170-1670371200-1670457599@clearwaterrec.org
SUMMARY:Youth basketball practices
DESCRIPTION:6:00 pm - CMS gym - Pike (3/4B); Semrad (1/2); Winter (1/2); Parker-Jordan (1/2) \n7:00 pm - CMS gym - Smith (3/4G) \n6:00 pm - CIC gym - Bettles (5/6G) \n7:00 pm - CIC gym - Hastings (5/6G)
URL:https://clearwaterrec.org/event/youth-basketball-practices-13/
LOCATION:Kansas
END:VEVENT
BEGIN:VEVENT
DTSTART;TZID=America/Chicago:20221209T000000
DTEND;TZID=America/Chicago:20221209T235959
DTSTAMP:20260421T051811
CREATED:20221118T172329Z
LAST-MODIFIED:20221128T184417Z
UID:10000172-1670544000-1670630399@clearwaterrec.org
SUMMARY:Youth basketball practices
DESCRIPTION:6:00 pm - CMS gym - Schultz (1/2) \n7:00 pm - CMS gym - Charles (3/4G) \n6:00 pm - CIC gym - McNelley (5/6B); Mellen (5/6B) \n7:00 pm - CIC gym - Charles (5/6G); Hastings (5/6G)
URL:https://clearwaterrec.org/event/youth-basketball-practices-14/
LOCATION:Kansas
END:VEVENT
BEGIN:VEVENT
DTSTART;TZID=America/Chicago:20221210T080000
DTEND;TZID=America/Chicago:20221210T170000
DTSTAMP:20260421T051811
CREATED:20220920T162719Z
LAST-MODIFIED:20220920T162719Z
UID:10000111-1670659200-1670691600@clearwaterrec.org
SUMMARY:Youth Basketball League Games
DESCRIPTION:1st-6th grade basketball league games.
URL:https://clearwaterrec.org/event/youth-basketball-league-games/2022-12-10/
LOCATION:Kansas
END:VEVENT
BEGIN:VEVENT
DTSTART;TZID=America/Chicago:20221211T174500
DTEND;TZID=America/Chicago:20221211T190000
DTSTAMP:20260421T051811
CREATED:20221103T173702Z
LAST-MODIFIED:20221206T185436Z
UID:10000131-1670780700-1670785200@clearwaterrec.org
SUMMARY:Santa's Night of Lights parade
DESCRIPTION:We’re excited to announce new this year --- Photos with Santa after the parade!  \nPlus\, the Christmas Minion will be serving cookies and punch to everyone! \n Load your family in the car and follow Santa as he leads this parade through Clearwater to see some of the best Christmas lights. Each carload will receive snacks as they make their way through town for the approximately 30 minute light tour. Those in the parade are encouraged to decorate their vehicles also. \nParade starting location: Clearwater Middle School parking lot \nParade departure time from CMS parking lot: 5:45 pm \nPhotos with Santa: Clearwater Public Library at approximately 6:15 pm \nCookies & punch with the Christmas Minion Clearwater Wellness Center 6:15 pm – 6:45 pm
URL:https://clearwaterrec.org/event/santas-night-of-lights-parade/
LOCATION:Kansas
END:VEVENT
BEGIN:VEVENT
DTSTART;TZID=America/Chicago:20221212T000000
DTEND;TZID=America/Chicago:20221212T235959
DTSTAMP:20260421T051811
CREATED:20221118T172639Z
LAST-MODIFIED:20221206T185101Z
UID:10000176-1670803200-1670889599@clearwaterrec.org
SUMMARY:Youth basketball practices
DESCRIPTION:6:00 pm - CMS gym - Schultz (1/2) \n7:00 pm - CMS gym - Smith (3/4G) \n6:00 pm - CIC gym - Bettles (5/6G) \n7:00 pm - CIC gym - Mellen (5/6B)
URL:https://clearwaterrec.org/event/youth-basketball-practices-16/
LOCATION:Kansas
END:VEVENT
BEGIN:VEVENT
DTSTART;TZID=America/Chicago:20221213T000000
DTEND;TZID=America/Chicago:20221213T235959
DTSTAMP:20260421T051811
CREATED:20221118T172737Z
LAST-MODIFIED:20221128T184504Z
UID:10000033-1670889600-1670975999@clearwaterrec.org
SUMMARY:Youth basketball practices
DESCRIPTION:6:00 pm - CMS gym -  Winter (1/2); Parker-Jordan (1/2) \n7:00 pm - CMS gym - \n6:00 pm - CIC gym - McNelley (5/6B) \n7:00 pm - CIC gym - Hastings (5/6G)
URL:https://clearwaterrec.org/event/youth-basketball-practices-17/
LOCATION:Kansas
END:VEVENT
BEGIN:VEVENT
DTSTART;TZID=America/Chicago:20221214T000000
DTEND;TZID=America/Chicago:20221214T235959
DTSTAMP:20260421T051811
CREATED:20221118T172840Z
LAST-MODIFIED:20221118T172840Z
UID:10000034-1670976000-1671062399@clearwaterrec.org
SUMMARY:Youth basketball practices
DESCRIPTION:6:00 pm - CMS gym - Pike (3/4B); Semrad (1/2); Parker-Jordan (1/2) \n7:00 pm - CMS gym - Smith (3/4G) \n6:00 pm - CIC gym - Bettles (5/6G) \n7:00 pm - CIC gym -
URL:https://clearwaterrec.org/event/youth-basketball-practices-18/
LOCATION:Kansas
END:VEVENT
BEGIN:VEVENT
DTSTART;TZID=America/Chicago:20221214T191500
DTEND;TZID=America/Chicago:20221214T191500
DTSTAMP:20260421T051811
CREATED:20220921T165319Z
LAST-MODIFIED:20221118T165954Z
UID:10000007-1671045300-1671045300@clearwaterrec.org
SUMMARY:Recreation Commission Board Meeting
DESCRIPTION:
URL:https://clearwaterrec.org/event/recreation-commission-board-meeting-4/
LOCATION:Clearwater Public Library\, 109 E. Ross\, Clearwater\, Kansas\, 67026\, United States
END:VEVENT
BEGIN:VEVENT
DTSTART;TZID=America/Chicago:20221215T000000
DTEND;TZID=America/Chicago:20221215T235959
DTSTAMP:20260421T051811
CREATED:20221118T172933Z
LAST-MODIFIED:20221206T185128Z
UID:10000035-1671062400-1671148799@clearwaterrec.org
SUMMARY:Youth basketball practices
DESCRIPTION:6:00 pm - CMS gym - Charles (3/4G); Winter (1/2) \n7:00 pm - CMS gym - \n6:00 pm - CIC gym - Mellen (5/6B) \n7:00 pm - CIC gym - Hastings (5/6G); Charles (5/6G)
URL:https://clearwaterrec.org/event/youth-basketball-practices-19/
LOCATION:Kansas
END:VEVENT
BEGIN:VEVENT
DTSTART;TZID=America/Chicago:20221216T000000
DTEND;TZID=America/Chicago:20221216T235959
DTSTAMP:20260421T051811
CREATED:20221118T173017Z
LAST-MODIFIED:20221128T184616Z
UID:10000037-1671148800-1671235199@clearwaterrec.org
SUMMARY:Youth basketball practices
DESCRIPTION:6:00 pm - CMS gym - \n7:00 pm - CMS gym - \n6:00 pm - CIC gym - McNelley (5/6B) \n7:00 pm - CIC gym -
URL:https://clearwaterrec.org/event/youth-basketball-practices-20/
LOCATION:Kansas
END:VEVENT
BEGIN:VEVENT
DTSTART;TZID=America/Chicago:20221217T080000
DTEND;TZID=America/Chicago:20221217T170000
DTSTAMP:20260421T051811
CREATED:20220920T162719Z
LAST-MODIFIED:20220920T162719Z
UID:10000112-1671264000-1671296400@clearwaterrec.org
SUMMARY:Youth Basketball League Games
DESCRIPTION:1st-6th grade basketball league games.
URL:https://clearwaterrec.org/event/youth-basketball-league-games/2022-12-17/
LOCATION:Kansas
END:VEVENT
BEGIN:VEVENT
DTSTART;TZID=America/Chicago:20221219T000000
DTEND;TZID=America/Chicago:20221219T235959
DTSTAMP:20260421T051811
CREATED:20221118T172537Z
LAST-MODIFIED:20221128T184642Z
UID:10000174-1671408000-1671494399@clearwaterrec.org
SUMMARY:Youth basketball practices
DESCRIPTION:6:00 pm - CMS gym - Schultz (1/2); Winter (1/2); Parker-Jordan (1/2) \n7:00 pm - CMS gym - Charles (3/4G) \n6:00 pm - CIC gym - Charles (5/6G); Bettles (5/6G) \n7:00 pm - CIC gym -
URL:https://clearwaterrec.org/event/youth-basketball-practices-15/
LOCATION:Kansas
END:VEVENT
BEGIN:VEVENT
DTSTART;TZID=America/Chicago:20221219T151500
DTEND;TZID=America/Chicago:20221219T160000
DTSTAMP:20260421T051811
CREATED:20221118T171326Z
LAST-MODIFIED:20221118T171326Z
UID:10000156-1671462900-1671465600@clearwaterrec.org
SUMMARY:Bingo
DESCRIPTION:Join friends by playing Bingo at the Clearwater Library. Special Christmas themed prizes for all winners!
URL:https://clearwaterrec.org/event/bingo-3/
LOCATION:Clearwater Public Library\, 109 E. Ross\, Clearwater\, Kansas\, 67026\, United States
END:VEVENT
BEGIN:VEVENT
DTSTART;TZID=America/Chicago:20221223T000000
DTEND;TZID=America/Chicago:20221223T235959
DTSTAMP:20260421T051811
CREATED:20221118T171553Z
LAST-MODIFIED:20221118T171553Z
UID:10000157-1671753600-1671839999@clearwaterrec.org
SUMMARY:Christmas Break
DESCRIPTION:Office closed for Christmas break.
URL:https://clearwaterrec.org/event/christmas-break/2022-12-23/
LOCATION:Kansas
END:VEVENT
BEGIN:VEVENT
DTSTART;TZID=America/Chicago:20221226T000000
DTEND;TZID=America/Chicago:20221226T235959
DTSTAMP:20260421T051811
CREATED:20221118T171553Z
LAST-MODIFIED:20221118T171553Z
UID:10000158-1672012800-1672099199@clearwaterrec.org
SUMMARY:Christmas Break
DESCRIPTION:Office closed for Christmas break.
URL:https://clearwaterrec.org/event/christmas-break/2022-12-26/
LOCATION:Kansas
END:VEVENT
BEGIN:VEVENT
DTSTART;TZID=America/Chicago:20221227T110000
DTEND;TZID=America/Chicago:20221227T120000
DTSTAMP:20260421T051811
CREATED:20221206T185659Z
LAST-MODIFIED:20221206T185659Z
UID:10000039-1672138800-1672142400@clearwaterrec.org
SUMMARY:Basketball open gym
DESCRIPTION:Practice your basketball skills with friends during Christmas break.
URL:https://clearwaterrec.org/event/basketball-open-gym-3/2022-12-27/
LOCATION:CIC gym\, 140 S. 4th\, Clearwater\, KS\, 67037\, United States
END:VEVENT
BEGIN:VEVENT
DTSTART;TZID=America/Chicago:20221228T110000
DTEND;TZID=America/Chicago:20221228T120000
DTSTAMP:20260421T051811
CREATED:20221206T185659Z
LAST-MODIFIED:20221206T185659Z
UID:10000040-1672225200-1672228800@clearwaterrec.org
SUMMARY:Basketball open gym
DESCRIPTION:Practice your basketball skills with friends during Christmas break.
URL:https://clearwaterrec.org/event/basketball-open-gym-3/2022-12-28/
LOCATION:CIC gym\, 140 S. 4th\, Clearwater\, KS\, 67037\, United States
END:VEVENT
BEGIN:VEVENT
DTSTART;TZID=America/Chicago:20221229T110000
DTEND;TZID=America/Chicago:20221229T120000
DTSTAMP:20260421T051811
CREATED:20221206T185659Z
LAST-MODIFIED:20221206T185659Z
UID:10000041-1672311600-1672315200@clearwaterrec.org
SUMMARY:Basketball open gym
DESCRIPTION:Practice your basketball skills with friends during Christmas break.
URL:https://clearwaterrec.org/event/basketball-open-gym-3/2022-12-29/
LOCATION:CIC gym\, 140 S. 4th\, Clearwater\, KS\, 67037\, United States
END:VEVENT
END:VCALENDAR