BEGIN:VCALENDAR
VERSION:2.0
PRODID:-//Clearwater Recreation Commission - ECPv6.15.17.1//NONSGML v1.0//EN
CALSCALE:GREGORIAN
METHOD:PUBLISH
X-ORIGINAL-URL:https://clearwaterrec.org
X-WR-CALDESC:Events for Clearwater Recreation Commission
REFRESH-INTERVAL;VALUE=DURATION:PT1H
X-Robots-Tag:noindex
X-PUBLISHED-TTL:PT1H
BEGIN:VTIMEZONE
TZID:America/Chicago
BEGIN:DAYLIGHT
TZOFFSETFROM:-0600
TZOFFSETTO:-0500
TZNAME:CDT
DTSTART:20210314T080000
END:DAYLIGHT
BEGIN:STANDARD
TZOFFSETFROM:-0500
TZOFFSETTO:-0600
TZNAME:CST
DTSTART:20211107T070000
END:STANDARD
BEGIN:DAYLIGHT
TZOFFSETFROM:-0600
TZOFFSETTO:-0500
TZNAME:CDT
DTSTART:20220313T080000
END:DAYLIGHT
BEGIN:STANDARD
TZOFFSETFROM:-0500
TZOFFSETTO:-0600
TZNAME:CST
DTSTART:20221106T070000
END:STANDARD
BEGIN:DAYLIGHT
TZOFFSETFROM:-0600
TZOFFSETTO:-0500
TZNAME:CDT
DTSTART:20230312T080000
END:DAYLIGHT
BEGIN:STANDARD
TZOFFSETFROM:-0500
TZOFFSETTO:-0600
TZNAME:CST
DTSTART:20231105T070000
END:STANDARD
END:VTIMEZONE
BEGIN:VEVENT
DTSTART;TZID=America/Chicago:20221102T080000
DTEND;TZID=America/Chicago:20221102T170000
DTSTAMP:20260421T063719
CREATED:20220920T155923Z
LAST-MODIFIED:20220920T155923Z
UID:10000103-1667376000-1667408400@clearwaterrec.org
SUMMARY:Youth Basketball Registration Deadline
DESCRIPTION:Registration deadline for youth basketball activities including 3-5 year old basketball clinic and 1st-6th grade basketball league with Haysville and Mulvane.
URL:https://clearwaterrec.org/event/youth-basketball-registration-deadline/
LOCATION:Kansas
END:VEVENT
BEGIN:VEVENT
DTSTART;TZID=America/Chicago:20221102T151500
DTEND;TZID=America/Chicago:20221102T160000
DTSTAMP:20260421T063719
CREATED:20221017T162851Z
LAST-MODIFIED:20221017T162851Z
UID:10000018-1667402100-1667404800@clearwaterrec.org
SUMMARY:National Cookie Monster Day
DESCRIPTION:Celebrate National Cookie Monster Day by devouring a variety of cookies\, visiting with friends and playing games.
URL:https://clearwaterrec.org/event/national-cookie-monster-day/
LOCATION:Clearwater Public Library\, 109 E. Ross\, Clearwater\, Kansas\, 67026\, United States
END:VEVENT
BEGIN:VEVENT
DTSTART;TZID=America/Chicago:20221104T173000
DTEND;TZID=America/Chicago:20221104T190000
DTSTAMP:20260421T063719
CREATED:20220921T182232Z
LAST-MODIFIED:20220921T182232Z
UID:10000009-1667583000-1667588400@clearwaterrec.org
SUMMARY:NERF Wars
DESCRIPTION:Battle it out at Clearwater's Mom & Kid NERF Wars! We'll provide pizza followed by multiple rounds of games. You are welcome to bring your own blaster but please leave your darts at home\, they will be provided.
URL:https://clearwaterrec.org/event/nerf-wars/
LOCATION:CMS gym\, 140 S. 4th\, Clearwater\, Kansas\, 67026\, United States
END:VEVENT
BEGIN:VEVENT
DTSTART;TZID=America/Chicago:20221108T151500
DTEND;TZID=America/Chicago:20221108T160000
DTSTAMP:20260421T063719
CREATED:20221103T173443Z
LAST-MODIFIED:20221109T163156Z
UID:10000125-1667920500-1667923200@clearwaterrec.org
SUMMARY:Girls Run!
DESCRIPTION:All 3rd-6th grade girls are invited to join us for a fun after school running program leading up to the 2 mile Turkey Trot on November 22. A coach will instruct the runners in a positive environment and we will also provide snacks. All girls who participate in the program and register for the Turkey Trot will receive a special pair of holiday socks. There is no cost to participate in the running program but the Turkey Trot registration is $11 (includes t-shirt and mini pie at the finish line.) \n*While the running program is free\, we do request if your daughter is going to attend that you text us at 620-584-2323 so we can plan accordingly.
URL:https://clearwaterrec.org/event/girls-run/2022-11-08/
LOCATION:Clearwater Elementary West gym\, 100 S. Prospect\, Clearwater\, KS\, 67037\, United States
END:VEVENT
BEGIN:VEVENT
DTSTART;TZID=America/Chicago:20221109T000000
DTEND;TZID=America/Chicago:20221109T000000
DTSTAMP:20260421T063719
CREATED:20221103T173112Z
LAST-MODIFIED:20221103T173622Z
UID:10000123-1667952000-1667952000@clearwaterrec.org
SUMMARY:Rec Basketball Coach meeting
DESCRIPTION:5:15 pm: 3rd-6th grade girl's coaches \n5:30 pm: All coaches (1st-6th grades) \n5:45 pm: 3rd-6th grade boy's coaches
URL:https://clearwaterrec.org/event/rec-basketball-coach-meeting/
LOCATION:Clearwater Public Library\, 109 E. Ross\, Clearwater\, Kansas\, 67026\, United States
END:VEVENT
BEGIN:VEVENT
DTSTART;TZID=America/Chicago:20221109T151500
DTEND;TZID=America/Chicago:20221109T160000
DTSTAMP:20260421T063719
CREATED:20221017T162944Z
LAST-MODIFIED:20221103T172930Z
UID:10000020-1668006900-1668009600@clearwaterrec.org
SUMMARY:Bingo
DESCRIPTION:Join friends by playing Bingo! Fun prizes for winners and snacks for all players!!
URL:https://clearwaterrec.org/event/bingo-2/
LOCATION:Clearwater Public Library\, 109 E. Ross\, Clearwater\, Kansas\, 67026\, United States
END:VEVENT
BEGIN:VEVENT
DTSTART;TZID=America/Chicago:20221109T183000
DTEND;TZID=America/Chicago:20221109T183000
DTSTAMP:20260421T063719
CREATED:20220921T165232Z
LAST-MODIFIED:20220921T165232Z
UID:10000119-1668018600-1668018600@clearwaterrec.org
SUMMARY:Recreation Commission Board Meeting
DESCRIPTION:
URL:https://clearwaterrec.org/event/recreation-commission-board-meeting-3/
LOCATION:Clearwater Public Library\, 109 E. Ross\, Clearwater\, Kansas\, 67026\, United States
END:VEVENT
BEGIN:VEVENT
DTSTART;TZID=America/Chicago:20221110T151500
DTEND;TZID=America/Chicago:20221110T160000
DTSTAMP:20260421T063719
CREATED:20221103T173443Z
LAST-MODIFIED:20221109T163156Z
UID:10000126-1668093300-1668096000@clearwaterrec.org
SUMMARY:Girls Run!
DESCRIPTION:All 3rd-6th grade girls are invited to join us for a fun after school running program leading up to the 2 mile Turkey Trot on November 22. A coach will instruct the runners in a positive environment and we will also provide snacks. All girls who participate in the program and register for the Turkey Trot will receive a special pair of holiday socks. There is no cost to participate in the running program but the Turkey Trot registration is $11 (includes t-shirt and mini pie at the finish line.) \n*While the running program is free\, we do request if your daughter is going to attend that you text us at 620-584-2323 so we can plan accordingly.
URL:https://clearwaterrec.org/event/girls-run/2022-11-10/
LOCATION:Clearwater Elementary West gym\, 100 S. Prospect\, Clearwater\, KS\, 67037\, United States
END:VEVENT
BEGIN:VEVENT
DTSTART;TZID=America/Chicago:20221114T000000
DTEND;TZID=America/Chicago:20221114T235959
DTSTAMP:20260421T063719
CREATED:20221017T163215Z
LAST-MODIFIED:20221017T163215Z
UID:10000023-1668384000-1668470399@clearwaterrec.org
SUMMARY:Turkey Trot registration deadline
DESCRIPTION:The whole family can kick off Thanksgiving in a fun and festive way with the two-mile Turkey Trot! All registered participants will receive a t-shirt and individual pie (apple\, cherry or pecan) at the finish line. Registration fee is $11.00 per person.
URL:https://clearwaterrec.org/event/turkey-trot-registration-deadline/
LOCATION:Kansas
END:VEVENT
BEGIN:VEVENT
DTSTART;TZID=America/Chicago:20221114T000000
DTEND;TZID=America/Chicago:20221114T235959
DTSTAMP:20260421T063719
CREATED:20221110T163618Z
LAST-MODIFIED:20221110T163618Z
UID:10000134-1668384000-1668470399@clearwaterrec.org
SUMMARY:Youth basketball practices
DESCRIPTION:6:00 pm - CMS gym - Hernandez (3/4B) \n7:00 pm - CMS gym - \n6:00 pm - CIC gym - Charles (5/6G); Bettles (5/6G) \n7:00 pm - CIC gym -
URL:https://clearwaterrec.org/event/youth-basketball-practices/
LOCATION:Kansas
END:VEVENT
BEGIN:VEVENT
DTSTART;TZID=America/Chicago:20221115T000000
DTEND;TZID=America/Chicago:20221115T235959
DTSTAMP:20260421T063719
CREATED:20221110T163759Z
LAST-MODIFIED:20221110T163759Z
UID:10000135-1668470400-1668556799@clearwaterrec.org
SUMMARY:Youth basketball practices
DESCRIPTION:6:00 pm - CMS gym - Winter (1/2); Semrad (1/2) \n7:00 pm - CMS gym - Parker-Jordan (1/2) \n6:00 pm - CIC gym - \n7:00 pm - CIC gym - Hastings (5/6G)
URL:https://clearwaterrec.org/event/youth-basketball-practices-2/
LOCATION:Kansas
END:VEVENT
BEGIN:VEVENT
DTSTART;TZID=America/Chicago:20221115T151500
DTEND;TZID=America/Chicago:20221115T160000
DTSTAMP:20260421T063719
CREATED:20221103T173443Z
LAST-MODIFIED:20221109T163156Z
UID:10000127-1668525300-1668528000@clearwaterrec.org
SUMMARY:Girls Run!
DESCRIPTION:All 3rd-6th grade girls are invited to join us for a fun after school running program leading up to the 2 mile Turkey Trot on November 22. A coach will instruct the runners in a positive environment and we will also provide snacks. All girls who participate in the program and register for the Turkey Trot will receive a special pair of holiday socks. There is no cost to participate in the running program but the Turkey Trot registration is $11 (includes t-shirt and mini pie at the finish line.) \n*While the running program is free\, we do request if your daughter is going to attend that you text us at 620-584-2323 so we can plan accordingly.
URL:https://clearwaterrec.org/event/girls-run/2022-11-15/
LOCATION:Clearwater Elementary West gym\, 100 S. Prospect\, Clearwater\, KS\, 67037\, United States
END:VEVENT
BEGIN:VEVENT
DTSTART;TZID=America/Chicago:20221116T000000
DTEND;TZID=America/Chicago:20221116T235959
DTSTAMP:20260421T063719
CREATED:20221110T164100Z
LAST-MODIFIED:20221110T164100Z
UID:10000136-1668556800-1668643199@clearwaterrec.org
SUMMARY:Youth basketball practices
DESCRIPTION:6:00 pm - CMS gym - Pike (3/4B); Parker-Jordan (1/2) \n7:00 pm - CMS gym - \n6:00 pm - CIC gym - Bettles (5/6G) \n7:00 pm - CIC gym - Mellen (5/6B)
URL:https://clearwaterrec.org/event/youth-basketball-practices-3/
LOCATION:Kansas
END:VEVENT
BEGIN:VEVENT
DTSTART;TZID=America/Chicago:20221117T000000
DTEND;TZID=America/Chicago:20221117T235959
DTSTAMP:20260421T063719
CREATED:20221110T164213Z
LAST-MODIFIED:20221114T165232Z
UID:10000137-1668643200-1668729599@clearwaterrec.org
SUMMARY:Youth basketball practices
DESCRIPTION:6:00 pm - CMS gym - Charles (3/4G); Winter (1/2) \n7:00 pm - CMS gym - \n6:00 pm - CIC gym - Reif (5/6B) \n7:00 pm - CIC gym - Hastings (5/6G)
URL:https://clearwaterrec.org/event/youth-basketball-practices-4/
LOCATION:Kansas
END:VEVENT
BEGIN:VEVENT
DTSTART;TZID=America/Chicago:20221117T151500
DTEND;TZID=America/Chicago:20221117T160000
DTSTAMP:20260421T063719
CREATED:20221103T173443Z
LAST-MODIFIED:20221109T163156Z
UID:10000128-1668698100-1668700800@clearwaterrec.org
SUMMARY:Girls Run!
DESCRIPTION:All 3rd-6th grade girls are invited to join us for a fun after school running program leading up to the 2 mile Turkey Trot on November 22. A coach will instruct the runners in a positive environment and we will also provide snacks. All girls who participate in the program and register for the Turkey Trot will receive a special pair of holiday socks. There is no cost to participate in the running program but the Turkey Trot registration is $11 (includes t-shirt and mini pie at the finish line.) \n*While the running program is free\, we do request if your daughter is going to attend that you text us at 620-584-2323 so we can plan accordingly.
URL:https://clearwaterrec.org/event/girls-run/2022-11-17/
LOCATION:Clearwater Elementary West gym\, 100 S. Prospect\, Clearwater\, KS\, 67037\, United States
END:VEVENT
BEGIN:VEVENT
DTSTART;TZID=America/Chicago:20221118T000000
DTEND;TZID=America/Chicago:20221118T235959
DTSTAMP:20260421T063719
CREATED:20221114T165333Z
LAST-MODIFIED:20221114T165353Z
UID:10000140-1668729600-1668815999@clearwaterrec.org
SUMMARY:Youth basketball practices
DESCRIPTION:6:00 pm - CMS gym - Schultz (1/2) \n7:00 pm - CMS gym - \n6:00 pm - CIC gym - \n7:00 pm - CIC gym -
URL:https://clearwaterrec.org/event/youth-basketball-practices-7/
LOCATION:Kansas
END:VEVENT
BEGIN:VEVENT
DTSTART;TZID=America/Chicago:20221120T000000
DTEND;TZID=America/Chicago:20221120T235959
DTSTAMP:20260421T063719
CREATED:20221110T164428Z
LAST-MODIFIED:20221110T164428Z
UID:10000138-1668902400-1668988799@clearwaterrec.org
SUMMARY:Youth basketball practices
DESCRIPTION:3:00 pm - CMS gym - Pike (3/4B) \n4:00 pm - CMS gym - Hernandez (3/4B) \n3:00 pm - CIC gym - \n4:00 pm - CIC gym - Bettles (5/6G)
URL:https://clearwaterrec.org/event/youth-basketball-practices-5/
LOCATION:Kansas
END:VEVENT
BEGIN:VEVENT
DTSTART;TZID=America/Chicago:20221120T150000
DTEND;TZID=America/Chicago:20221120T160000
DTSTAMP:20260421T063719
CREATED:20221017T163025Z
LAST-MODIFIED:20221114T165819Z
UID:10000021-1668956400-1668960000@clearwaterrec.org
SUMMARY:Basketball Open Gym
DESCRIPTION:Everyone is welcome to come play pick up basketball games or just shoot baskets.
URL:https://clearwaterrec.org/event/basketball-open-gym/
LOCATION:CIC gym\, 140 S. 4th\, Clearwater\, KS\, 67037\, United States
END:VEVENT
BEGIN:VEVENT
DTSTART;TZID=America/Chicago:20221122T000000
DTEND;TZID=America/Chicago:20221122T235959
DTSTAMP:20260421T063719
CREATED:20221110T164604Z
LAST-MODIFIED:20221118T165622Z
UID:10000139-1669075200-1669161599@clearwaterrec.org
SUMMARY:Youth basketball practices
DESCRIPTION:6:00 pm - CMS gym - Winter (1/2) \n7:00 pm - CMS gym - Charles (3/4G); Schultz (1/2); Parker-Jordan (1/2); Semrad (1/2) \n6:00 pm - CIC gym - Charles (5/6G); Reif (5/6B) \n7:00 pm - CIC gym - Mellen (5/6B); Hastings (5/6G)
URL:https://clearwaterrec.org/event/youth-basketball-practices-6/
LOCATION:Kansas
END:VEVENT
BEGIN:VEVENT
DTSTART;TZID=America/Chicago:20221122T183000
DTEND;TZID=America/Chicago:20221122T183000
DTSTAMP:20260421T063719
CREATED:20221017T163827Z
LAST-MODIFIED:20221017T163827Z
UID:10000121-1669141800-1669141800@clearwaterrec.org
SUMMARY:"I'm Only Here For the Pie" 2 Mile Turkey Trot
DESCRIPTION:The Turkey Trot is an event for the whole family to kick off Thanksgiving Break in a fun and festive way! Walkers and runners are encouraged to wear items that glow and bring flashlights to light the two mile path. Each participant will receive an individual pie (apple\, cherry or pecan) and t-shirt at the finish line! \nRegistration fee per participant includes t-shirt and mini pie: $11.00 \nRegistration deadline is November 14.
URL:https://clearwaterrec.org/event/im-only-here-for-the-pie-2-mile-turkey-trot/
LOCATION:CMS gym\, 140 S. 4th\, Clearwater\, Kansas\, 67026\, United States
END:VEVENT
BEGIN:VEVENT
DTSTART;TZID=America/Chicago:20221124T080000
DTEND;TZID=America/Chicago:20221124T170000
DTSTAMP:20260421T063719
CREATED:20220920T162454Z
LAST-MODIFIED:20220920T162454Z
UID:10000107-1669276800-1669309200@clearwaterrec.org
SUMMARY:Thanksgiving Break
DESCRIPTION:Office closed for Thanksgiving Break.
URL:https://clearwaterrec.org/event/thanksgiving-break/2022-11-24/
LOCATION:Kansas
END:VEVENT
BEGIN:VEVENT
DTSTART;TZID=America/Chicago:20221125T080000
DTEND;TZID=America/Chicago:20221125T170000
DTSTAMP:20260421T063719
CREATED:20220920T162454Z
LAST-MODIFIED:20220920T162454Z
UID:10000108-1669363200-1669395600@clearwaterrec.org
SUMMARY:Thanksgiving Break
DESCRIPTION:Office closed for Thanksgiving Break.
URL:https://clearwaterrec.org/event/thanksgiving-break/2022-11-25/
LOCATION:Kansas
END:VEVENT
BEGIN:VEVENT
DTSTART;TZID=America/Chicago:20221128T000000
DTEND;TZID=America/Chicago:20221128T235959
DTSTAMP:20260421T063719
CREATED:20221114T172214Z
LAST-MODIFIED:20221114T172214Z
UID:10000141-1669593600-1669679999@clearwaterrec.org
SUMMARY:Youth basketball practices
DESCRIPTION:6:00 pm - CMS gym - Hernandez (3/4B) \n7:00 pm - CMS gym - Charles (3/4G); Smith (3/4G) \n6:00 pm - CIC gym - Charles (5/6G); Reif (5/6B) \n7:00 pm - CIC gym - Mellen (5/6B)
URL:https://clearwaterrec.org/event/youth-basketball-practices-8/
LOCATION:Kansas
END:VEVENT
BEGIN:VEVENT
DTSTART;TZID=America/Chicago:20221129T000000
DTEND;TZID=America/Chicago:20221129T235959
DTSTAMP:20260421T063719
CREATED:20221114T173221Z
LAST-MODIFIED:20221128T183934Z
UID:10000143-1669680000-1669766399@clearwaterrec.org
SUMMARY:Youth basketball practices
DESCRIPTION:6:00 pm - CMS gym - Winter (1/2) \n7:00 pm - CMS gym - Schultz (1/2) \n6:00 pm - CIC gym - McNelley (5/6B) \n7:00 pm - CIC gym - Hastings (5/6G); Mellen (5/6B)
URL:https://clearwaterrec.org/event/youth-basketball-practices-9/
LOCATION:Kansas
END:VEVENT
BEGIN:VEVENT
DTSTART;TZID=America/Chicago:20221130T000000
DTEND;TZID=America/Chicago:20221130T235959
DTSTAMP:20260421T063719
CREATED:20221114T173339Z
LAST-MODIFIED:20221114T173339Z
UID:10000145-1669766400-1669852799@clearwaterrec.org
SUMMARY:Youth basketball practices
DESCRIPTION:6:00 pm - CMS gym - Pike (3/4B); Semrad (1/2); Parker-Jordan (1/2) \n7:00 pm - CMS gym - Smith (3/4G); Hernandez (3/4B) \n6:00 pm - CIC gym -Bettles (5/6G) \n7:00 pm - CIC gym - Hastings (5/6G)
URL:https://clearwaterrec.org/event/youth-basketball-practices-10/
LOCATION:Kansas
END:VEVENT
END:VCALENDAR