BEGIN:VCALENDAR
VERSION:2.0
PRODID:-//Clearwater Recreation Commission - ECPv6.15.17.1//NONSGML v1.0//EN
CALSCALE:GREGORIAN
METHOD:PUBLISH
X-ORIGINAL-URL:https://clearwaterrec.org
X-WR-CALDESC:Events for Clearwater Recreation Commission
REFRESH-INTERVAL;VALUE=DURATION:PT1H
X-Robots-Tag:noindex
X-PUBLISHED-TTL:PT1H
BEGIN:VTIMEZONE
TZID:America/Chicago
BEGIN:DAYLIGHT
TZOFFSETFROM:-0600
TZOFFSETTO:-0500
TZNAME:CDT
DTSTART:20210314T080000
END:DAYLIGHT
BEGIN:STANDARD
TZOFFSETFROM:-0500
TZOFFSETTO:-0600
TZNAME:CST
DTSTART:20211107T070000
END:STANDARD
BEGIN:DAYLIGHT
TZOFFSETFROM:-0600
TZOFFSETTO:-0500
TZNAME:CDT
DTSTART:20220313T080000
END:DAYLIGHT
BEGIN:STANDARD
TZOFFSETFROM:-0500
TZOFFSETTO:-0600
TZNAME:CST
DTSTART:20221106T070000
END:STANDARD
BEGIN:DAYLIGHT
TZOFFSETFROM:-0600
TZOFFSETTO:-0500
TZNAME:CDT
DTSTART:20230312T080000
END:DAYLIGHT
BEGIN:STANDARD
TZOFFSETFROM:-0500
TZOFFSETTO:-0600
TZNAME:CST
DTSTART:20231105T070000
END:STANDARD
END:VTIMEZONE
BEGIN:VEVENT
DTSTART;TZID=America/Chicago:20220905T080000
DTEND;TZID=America/Chicago:20220905T170000
DTSTAMP:20260421T093407
CREATED:20220818T171428Z
LAST-MODIFIED:20220818T171428Z
UID:10000077-1662364800-1662397200@clearwaterrec.org
SUMMARY:Labor Day - Rec Office closed
DESCRIPTION:
URL:https://clearwaterrec.org/event/labor-day-rec-office-closed/
LOCATION:Kansas
END:VEVENT
BEGIN:VEVENT
DTSTART;TZID=America/Chicago:20220907T151500
DTEND;TZID=America/Chicago:20220907T160000
DTSTAMP:20260421T093407
CREATED:20220830T172840Z
LAST-MODIFIED:20220907T200000Z
UID:10000101-1662563700-1662566400@clearwaterrec.org
SUMMARY:Cornhole games
DESCRIPTION:Kids can partner up and challenge their peers in cornhole games after school. Snacks provided for all players.
URL:https://clearwaterrec.org/event/cornhole-for-4th-6th-graders/2022-09-07/
LOCATION:Clearwater Public Library\, 109 E. Ross\, Clearwater\, Kansas\, 67026\, United States
END:VEVENT
BEGIN:VEVENT
DTSTART;TZID=America/Chicago:20220908T080000
DTEND;TZID=America/Chicago:20220908T170000
DTSTAMP:20260421T093407
CREATED:20220818T171024Z
LAST-MODIFIED:20220818T171024Z
UID:10000070-1662624000-1662656400@clearwaterrec.org
SUMMARY:1st/2nd grade Volleyball Instructional Clinic registration deadline
DESCRIPTION:This program will focus on fundamental training and concentrate on individual skills. \nClinic dates: September 28\, October 5 & 12 \nTime: 6:00 pm - 6:45 pm \nFee: $20 per player (each player will receive their own volleyball to keep on the last night)
URL:https://clearwaterrec.org/event/1st-2nd-grade-volleyball-instructional-clinic-registration-deadline/
LOCATION:Kansas
END:VEVENT
BEGIN:VEVENT
DTSTART;TZID=America/Chicago:20220910T000000
DTEND;TZID=America/Chicago:20220910T000000
DTSTAMP:20260421T093407
CREATED:20220830T170520Z
LAST-MODIFIED:20220830T170917Z
UID:10000081-1662768000-1662768000@clearwaterrec.org
SUMMARY:3rd-6th grade volleyball games
DESCRIPTION:3rd-6th grade league volleyball games
URL:https://clearwaterrec.org/event/3rd-6th-grade-volleyball-games/2022-09-10/
LOCATION:Mulvane Rec Center\, 411 SE Louis Drive\, Mulvane\, KS\, 67110\, United States
END:VEVENT
BEGIN:VEVENT
DTSTART;TZID=America/Chicago:20220914T151500
DTEND;TZID=America/Chicago:20220914T160000
DTSTAMP:20260421T093407
CREATED:20220830T172840Z
LAST-MODIFIED:20220907T200000Z
UID:10000102-1663168500-1663171200@clearwaterrec.org
SUMMARY:Cornhole games
DESCRIPTION:Kids can partner up and challenge their peers in cornhole games after school. Snacks provided for all players.
URL:https://clearwaterrec.org/event/cornhole-for-4th-6th-graders/2022-09-14/
LOCATION:Clearwater Public Library\, 109 E. Ross\, Clearwater\, Kansas\, 67026\, United States
END:VEVENT
BEGIN:VEVENT
DTSTART;TZID=America/Chicago:20220914T180000
DTEND;TZID=America/Chicago:20220914T180000
DTSTAMP:20260421T093407
CREATED:20220818T165447Z
LAST-MODIFIED:20220830T170124Z
UID:10000060-1663178400-1663178400@clearwaterrec.org
SUMMARY:Recreation Commission Board meeting
DESCRIPTION:
URL:https://clearwaterrec.org/event/recreation-commission-board-meeting/
LOCATION:Clearwater Public Library\, 109 E. Ross\, Clearwater\, Kansas\, 67026\, United States
END:VEVENT
BEGIN:VEVENT
DTSTART;TZID=America/Chicago:20220914T190000
DTEND;TZID=America/Chicago:20220914T200000
DTSTAMP:20260421T093407
CREATED:20220830T172333Z
LAST-MODIFIED:20220830T172436Z
UID:10000100-1663182000-1663185600@clearwaterrec.org
SUMMARY:Battle of the Clearwater 5th/6th grade volleyball teams
DESCRIPTION:Clearwater 5th/6th grade volleyball teams battle it out on their home court.
URL:https://clearwaterrec.org/event/battle-of-the-5th-6th-grade-volleyball-teams-clearwater-vs-clearwater/
LOCATION:CMS gym\, 140 S. 4th\, Clearwater\, Kansas\, 67026\, United States
END:VEVENT
BEGIN:VEVENT
DTSTART;TZID=America/Chicago:20220915T151500
DTEND;TZID=America/Chicago:20220915T160000
DTSTAMP:20260421T093407
CREATED:20220830T171943Z
LAST-MODIFIED:20220830T171943Z
UID:10000089-1663254900-1663257600@clearwaterrec.org
SUMMARY:Strawberry Shortcake Day
DESCRIPTION:Stop by the Clearwater Library after school and get a free strawberry shortcake\, visit with friends and participate in Lego Club.
URL:https://clearwaterrec.org/event/strawberry-shortcake-day/
LOCATION:Clearwater Public Library\, 109 E. Ross\, Clearwater\, Kansas\, 67026\, United States
END:VEVENT
BEGIN:VEVENT
DTSTART;TZID=America/Chicago:20220917T000000
DTEND;TZID=America/Chicago:20220917T000000
DTSTAMP:20260421T093407
CREATED:20220830T170520Z
LAST-MODIFIED:20220830T170917Z
UID:10000082-1663372800-1663372800@clearwaterrec.org
SUMMARY:3rd-6th grade volleyball games
DESCRIPTION:3rd-6th grade league volleyball games
URL:https://clearwaterrec.org/event/3rd-6th-grade-volleyball-games/2022-09-17/
LOCATION:Mulvane Rec Center\, 411 SE Louis Drive\, Mulvane\, KS\, 67110\, United States
END:VEVENT
BEGIN:VEVENT
DTSTART;TZID=America/Chicago:20220923T180000
DTEND;TZID=America/Chicago:20220923T193000
DTSTAMP:20260421T093407
CREATED:20220818T170101Z
LAST-MODIFIED:20220920T153640Z
UID:10000062-1663956000-1663961400@clearwaterrec.org
SUMMARY:Football 101: Learn the Basics
DESCRIPTION:This night is for moms and daughters to sharpen their football skills! \n\nFootball 101 fundamentals\nInteractive activities\nFlag football games\nPizza for everyone after games\nOpen for girls in 4th-6th grades\nMoms and Grandmas and Aunts of all ages are welcome to participate with their football playing girl\n$10 per couple ($5 each additional person)\n\nRegistration deadline is September 16.
URL:https://clearwaterrec.org/event/football-101-learn-the-basics/
LOCATION:Clearwater Football Field\, 140 S. 4th\, Clearwater\, KS\, 67026\, United States
END:VEVENT
BEGIN:VEVENT
DTSTART;TZID=America/Chicago:20220924T000000
DTEND;TZID=America/Chicago:20220924T000000
DTSTAMP:20260421T093407
CREATED:20220830T170520Z
LAST-MODIFIED:20220830T170917Z
UID:10000083-1663977600-1663977600@clearwaterrec.org
SUMMARY:3rd-6th grade volleyball games
DESCRIPTION:3rd-6th grade league volleyball games
URL:https://clearwaterrec.org/event/3rd-6th-grade-volleyball-games/2022-09-24/
LOCATION:Mulvane Rec Center\, 411 SE Louis Drive\, Mulvane\, KS\, 67110\, United States
END:VEVENT
BEGIN:VEVENT
DTSTART;TZID=America/Chicago:20220928T180000
DTEND;TZID=America/Chicago:20220928T184500
DTSTAMP:20260421T093407
CREATED:20220818T171119Z
LAST-MODIFIED:20220818T171119Z
UID:10000072-1664388000-1664390700@clearwaterrec.org
SUMMARY:1st/2nd grade Instructional Volleyball Clinic
DESCRIPTION:
URL:https://clearwaterrec.org/event/1st-2nd-grade-instructional-volleyball-clinic/
LOCATION:CMS gym\, 140 S. 4th\, Clearwater\, Kansas\, 67026\, United States
END:VEVENT
BEGIN:VEVENT
DTSTART;TZID=America/Chicago:20220930T080000
DTEND;TZID=America/Chicago:20220930T170000
DTSTAMP:20260421T093407
CREATED:20220818T170606Z
LAST-MODIFIED:20220818T170606Z
UID:10000066-1664524800-1664557200@clearwaterrec.org
SUMMARY:Dig It: Shocker Volleyball ticket request deadline
DESCRIPTION:Join Clearwater Rec to watch some of the best volleyball action in Wichita as the WSU Shockers battle Memphis University on October 7. All tickets are only $5 per person but everyone must be registered and paid for in advance at the Rec Office.
URL:https://clearwaterrec.org/event/dig-it-shocker-volleyball-ticket-request-deadline/
LOCATION:Kansas
END:VEVENT
END:VCALENDAR