BEGIN:VCALENDAR
VERSION:2.0
PRODID:-//Clearwater Recreation Commission - ECPv6.15.17.1//NONSGML v1.0//EN
CALSCALE:GREGORIAN
METHOD:PUBLISH
X-WR-CALNAME:Clearwater Recreation Commission
X-ORIGINAL-URL:https://clearwaterrec.org
X-WR-CALDESC:Events for Clearwater Recreation Commission
REFRESH-INTERVAL;VALUE=DURATION:PT1H
X-Robots-Tag:noindex
X-PUBLISHED-TTL:PT1H
BEGIN:VTIMEZONE
TZID:America/Chicago
BEGIN:DAYLIGHT
TZOFFSETFROM:-0600
TZOFFSETTO:-0500
TZNAME:CDT
DTSTART:20210314T080000
END:DAYLIGHT
BEGIN:STANDARD
TZOFFSETFROM:-0500
TZOFFSETTO:-0600
TZNAME:CST
DTSTART:20211107T070000
END:STANDARD
BEGIN:DAYLIGHT
TZOFFSETFROM:-0600
TZOFFSETTO:-0500
TZNAME:CDT
DTSTART:20220313T080000
END:DAYLIGHT
BEGIN:STANDARD
TZOFFSETFROM:-0500
TZOFFSETTO:-0600
TZNAME:CST
DTSTART:20221106T070000
END:STANDARD
BEGIN:DAYLIGHT
TZOFFSETFROM:-0600
TZOFFSETTO:-0500
TZNAME:CDT
DTSTART:20230312T080000
END:DAYLIGHT
BEGIN:STANDARD
TZOFFSETFROM:-0500
TZOFFSETTO:-0600
TZNAME:CST
DTSTART:20231105T070000
END:STANDARD
END:VTIMEZONE
BEGIN:VEVENT
DTSTART;TZID=America/Chicago:20220802T110000
DTEND;TZID=America/Chicago:20220802T114500
DTSTAMP:20260421T110016
CREATED:20220714T175313Z
LAST-MODIFIED:20220714T175313Z
UID:10000057-1659438000-1659440700@clearwaterrec.org
SUMMARY:Summer Dayz
DESCRIPTION:School is almost here but we're still having fun! Join us for outdoor games and stay cool playing in the water sprinklers.
URL:https://clearwaterrec.org/event/summer-dayz/2022-08-02/
LOCATION:Chisholm Trail Sports Complex – Field 3\, 1001 E Ross\, Clearwater\, KS\, 67026\, United States
END:VEVENT
BEGIN:VEVENT
DTSTART;TZID=America/Chicago:20220805T080000
DTEND;TZID=America/Chicago:20220805T170000
DTSTAMP:20260421T110016
CREATED:20220712T193105Z
LAST-MODIFIED:20220712T193105Z
UID:10000050-1659686400-1659718800@clearwaterrec.org
SUMMARY:Busy Bees registration deadline
DESCRIPTION:
URL:https://clearwaterrec.org/event/busy-bees-registration-deadline/
LOCATION:Kansas
END:VEVENT
BEGIN:VEVENT
DTSTART;TZID=America/Chicago:20220805T080000
DTEND;TZID=America/Chicago:20220805T170000
DTSTAMP:20260421T110016
CREATED:20220712T193640Z
LAST-MODIFIED:20220712T193640Z
UID:10000054-1659686400-1659718800@clearwaterrec.org
SUMMARY:Youth Volleyball League registration deadline
DESCRIPTION:
URL:https://clearwaterrec.org/event/youth-volleyball-league-registration-deadline/
LOCATION:Kansas
END:VEVENT
BEGIN:VEVENT
DTSTART;TZID=America/Chicago:20220808T103000
DTEND;TZID=America/Chicago:20220808T111500
DTSTAMP:20260421T110016
CREATED:20220712T181706Z
LAST-MODIFIED:20220712T181706Z
UID:10000038-1659954600-1659957300@clearwaterrec.org
SUMMARY:Beat the Heat Bingo
DESCRIPTION:Play Bingo and win prizes! All ages are welcome to join in on the fun.
URL:https://clearwaterrec.org/event/beat-the-heat-bingo/
LOCATION:Clearwater Public Library\, 109 E. Ross\, Clearwater\, Kansas\, 67026\, United States
END:VEVENT
BEGIN:VEVENT
DTSTART;TZID=America/Chicago:20220809T110000
DTEND;TZID=America/Chicago:20220809T114500
DTSTAMP:20260421T110016
CREATED:20220714T175313Z
LAST-MODIFIED:20220714T175313Z
UID:10000058-1660042800-1660045500@clearwaterrec.org
SUMMARY:Summer Dayz
DESCRIPTION:School is almost here but we're still having fun! Join us for outdoor games and stay cool playing in the water sprinklers.
URL:https://clearwaterrec.org/event/summer-dayz/2022-08-09/
LOCATION:Chisholm Trail Sports Complex – Field 3\, 1001 E Ross\, Clearwater\, KS\, 67026\, United States
END:VEVENT
BEGIN:VEVENT
DTSTART;TZID=America/Chicago:20220811T000000
DTEND;TZID=America/Chicago:20220811T000000
DTSTAMP:20260421T110016
CREATED:20220712T193754Z
LAST-MODIFIED:20220712T193754Z
UID:10000055-1660176000-1660176000@clearwaterrec.org
SUMMARY:Girls Flag Football registration deadline
DESCRIPTION:
URL:https://clearwaterrec.org/event/girls-flag-football-registration-deadline/
LOCATION:Kansas
END:VEVENT
BEGIN:VEVENT
DTSTART;TZID=America/Chicago:20220811T190000
DTEND;TZID=America/Chicago:20220811T200000
DTSTAMP:20260421T110016
CREATED:20220728T165859Z
LAST-MODIFIED:20220728T165859Z
UID:10000059-1660244400-1660248000@clearwaterrec.org
SUMMARY:Dog Days of Summer
DESCRIPTION:Bring your dogs for a mile walk around the Sports Complex and cool off by playing in the sprinklers at the end! All kids will receive a frozen snack and dogs will receive a special treat too.
URL:https://clearwaterrec.org/event/dog-days-of-summer/
LOCATION:Chisholm Trail Sports Complex – Field 3\, 1001 E Ross\, Clearwater\, KS\, 67026\, United States
END:VEVENT
BEGIN:VEVENT
DTSTART;TZID=America/Chicago:20220815T100000
DTEND;TZID=America/Chicago:20220815T104500
DTSTAMP:20260421T110016
CREATED:20220830T171149Z
LAST-MODIFIED:20220830T171149Z
UID:10000086-1660557600-1660560300@clearwaterrec.org
SUMMARY:Busy Bees
DESCRIPTION:Preschool program that will keep kids active while engaging their social and physical skills.
URL:https://clearwaterrec.org/event/busy-bees/2022-08-15/
LOCATION:Kansas
END:VEVENT
BEGIN:VEVENT
DTSTART;TZID=America/Chicago:20220822T100000
DTEND;TZID=America/Chicago:20220822T104500
DTSTAMP:20260421T110016
CREATED:20220830T171149Z
LAST-MODIFIED:20220830T171149Z
UID:10000087-1661162400-1661165100@clearwaterrec.org
SUMMARY:Busy Bees
DESCRIPTION:Preschool program that will keep kids active while engaging their social and physical skills.
URL:https://clearwaterrec.org/event/busy-bees/2022-08-22/
LOCATION:Kansas
END:VEVENT
BEGIN:VEVENT
DTSTART;TZID=America/Chicago:20220822T170000
DTEND;TZID=America/Chicago:20220822T170000
DTSTAMP:20260421T110016
CREATED:20220712T170650Z
LAST-MODIFIED:20220712T170650Z
UID:10000036-1661187600-1661187600@clearwaterrec.org
SUMMARY:Board meeting\, Revenue Neutral Rate Hearing and 2022-2023 Budget Hearing
DESCRIPTION:Recreation Commission board meeting\, Revenue Neutral Rate Hearing and 2022-2023 Budget Hearing
URL:https://clearwaterrec.org/event/board-meeting-revenue-neutral-rate-hearing-and-2022-2023-budget-hearing/
LOCATION:Clearwater Public Library\, 109 E. Ross\, Clearwater\, Kansas\, 67026\, United States
END:VEVENT
BEGIN:VEVENT
DTSTART;TZID=America/Chicago:20220825T151500
DTEND;TZID=America/Chicago:20220825T160000
DTSTAMP:20260421T110016
CREATED:20220818T165705Z
LAST-MODIFIED:20220818T165705Z
UID:10000061-1661440500-1661443200@clearwaterrec.org
SUMMARY:National Banana Split Day
DESCRIPTION:Celebrate National Banana Split Day by getting a free banana split from the Rec!
URL:https://clearwaterrec.org/event/national-banana-split-day/
LOCATION:Clearwater Public Library\, 109 E. Ross\, Clearwater\, Kansas\, 67026\, United States
END:VEVENT
BEGIN:VEVENT
DTSTART;TZID=America/Chicago:20220829T100000
DTEND;TZID=America/Chicago:20220829T104500
DTSTAMP:20260421T110016
CREATED:20220830T171149Z
LAST-MODIFIED:20220830T171149Z
UID:10000088-1661767200-1661769900@clearwaterrec.org
SUMMARY:Busy Bees
DESCRIPTION:Preschool program that will keep kids active while engaging their social and physical skills.
URL:https://clearwaterrec.org/event/busy-bees/2022-08-29/
LOCATION:Kansas
END:VEVENT
END:VCALENDAR