BEGIN:VCALENDAR
VERSION:2.0
PRODID:-//Clearwater Recreation Commission - ECPv6.15.17.1//NONSGML v1.0//EN
CALSCALE:GREGORIAN
METHOD:PUBLISH
X-WR-CALNAME:Clearwater Recreation Commission
X-ORIGINAL-URL:https://clearwaterrec.org
X-WR-CALDESC:Events for Clearwater Recreation Commission
REFRESH-INTERVAL;VALUE=DURATION:PT1H
X-Robots-Tag:noindex
X-PUBLISHED-TTL:PT1H
BEGIN:VTIMEZONE
TZID:America/Chicago
BEGIN:DAYLIGHT
TZOFFSETFROM:-0600
TZOFFSETTO:-0500
TZNAME:CDT
DTSTART:20210314T080000
END:DAYLIGHT
BEGIN:STANDARD
TZOFFSETFROM:-0500
TZOFFSETTO:-0600
TZNAME:CST
DTSTART:20211107T070000
END:STANDARD
BEGIN:DAYLIGHT
TZOFFSETFROM:-0600
TZOFFSETTO:-0500
TZNAME:CDT
DTSTART:20220313T080000
END:DAYLIGHT
BEGIN:STANDARD
TZOFFSETFROM:-0500
TZOFFSETTO:-0600
TZNAME:CST
DTSTART:20221106T070000
END:STANDARD
BEGIN:DAYLIGHT
TZOFFSETFROM:-0600
TZOFFSETTO:-0500
TZNAME:CDT
DTSTART:20230312T080000
END:DAYLIGHT
BEGIN:STANDARD
TZOFFSETFROM:-0500
TZOFFSETTO:-0600
TZNAME:CST
DTSTART:20231105T070000
END:STANDARD
END:VTIMEZONE
BEGIN:VEVENT
DTSTART;TZID=America/Chicago:20220526T180000
DTEND;TZID=America/Chicago:20220526T180000
DTSTAMP:20260421T155225
CREATED:20220525T131511Z
LAST-MODIFIED:20220525T133517Z
UID:10000003-1653588000-1653588000@clearwaterrec.org
SUMMARY:T-Ball – 1 (Wilmas) vs. 4 (Herring)
DESCRIPTION:
URL:https://clearwaterrec.org/event/t-ball-1-vs-4/
LOCATION:Chisholm Trail Sports Complex – Field 3\, 1001 E Ross\, Clearwater\, KS\, 67026\, United States
CATEGORIES:T-Ball
END:VEVENT
BEGIN:VEVENT
DTSTART;TZID=America/Chicago:20220526T190000
DTEND;TZID=America/Chicago:20220526T190000
DTSTAMP:20260421T155225
CREATED:20220525T133051Z
LAST-MODIFIED:20220525T133448Z
UID:10000004-1653591600-1653591600@clearwaterrec.org
SUMMARY:T-Ball – 5 (Spencer) vs. 3 (Bieler)
DESCRIPTION:
URL:https://clearwaterrec.org/event/t-ball-5-vs-3/
LOCATION:Chisholm Trail Sports Complex – Field 3\, 1001 E Ross\, Clearwater\, KS\, 67026\, United States
CATEGORIES:T-Ball
END:VEVENT
BEGIN:VEVENT
DTSTART;TZID=America/Chicago:20220526T193000
DTEND;TZID=America/Chicago:20220526T193000
DTSTAMP:20260421T155225
CREATED:20220525T133150Z
LAST-MODIFIED:20220525T133509Z
UID:10000005-1653593400-1653593400@clearwaterrec.org
SUMMARY:T-Ball – 6 (Weber) vs. 2 (Mercer)
DESCRIPTION:
URL:https://clearwaterrec.org/event/t-ball-6-vs-2/
LOCATION:Chisholm Trail Sports Complex – Field 2\, 1001 E Ross\, Clearwater\, KS\, 67026\, United States
CATEGORIES:T-Ball
END:VEVENT
END:VCALENDAR