BEGIN:VCALENDAR
VERSION:2.0
PRODID:-//Clearwater Recreation Commission - ECPv6.15.17.1//NONSGML v1.0//EN
CALSCALE:GREGORIAN
METHOD:PUBLISH
X-WR-CALNAME:Clearwater Recreation Commission
X-ORIGINAL-URL:https://clearwaterrec.org
X-WR-CALDESC:Events for Clearwater Recreation Commission
REFRESH-INTERVAL;VALUE=DURATION:PT1H
X-Robots-Tag:noindex
X-PUBLISHED-TTL:PT1H
BEGIN:VTIMEZONE
TZID:America/Chicago
BEGIN:DAYLIGHT
TZOFFSETFROM:-0600
TZOFFSETTO:-0500
TZNAME:CDT
DTSTART:20220313T080000
END:DAYLIGHT
BEGIN:STANDARD
TZOFFSETFROM:-0500
TZOFFSETTO:-0600
TZNAME:CST
DTSTART:20221106T070000
END:STANDARD
BEGIN:DAYLIGHT
TZOFFSETFROM:-0600
TZOFFSETTO:-0500
TZNAME:CDT
DTSTART:20230312T080000
END:DAYLIGHT
BEGIN:STANDARD
TZOFFSETFROM:-0500
TZOFFSETTO:-0600
TZNAME:CST
DTSTART:20231105T070000
END:STANDARD
BEGIN:DAYLIGHT
TZOFFSETFROM:-0600
TZOFFSETTO:-0500
TZNAME:CDT
DTSTART:20240310T080000
END:DAYLIGHT
BEGIN:STANDARD
TZOFFSETFROM:-0500
TZOFFSETTO:-0600
TZNAME:CST
DTSTART:20241103T070000
END:STANDARD
END:VTIMEZONE
BEGIN:VEVENT
DTSTART;TZID=America/Chicago:20230118T000000
DTEND;TZID=America/Chicago:20230118T235959
DTSTAMP:20260421T045623
CREATED:20221209T160701Z
LAST-MODIFIED:20230112T175046Z
UID:10000182-1674000000-1674086399@clearwaterrec.org
SUMMARY:Youth basketball practices
DESCRIPTION:6:00 pm - CMS gym - Semrad (1/2); Parker-Jordan (1/2) \n7:00 pm - CMS gym - Smith (3/4G); Pike (3/4B) \n6:00 pm - CIC gym - Bettles (5/6G); Mellen (5/6B) \n7:00 pm - CIC gym - Hastings (5/6G)
URL:https://clearwaterrec.org/event/youth-basketball-practices-27/
LOCATION:Kansas
END:VEVENT
END:VCALENDAR