BEGIN:VCALENDAR
VERSION:2.0
PRODID:-//Clearwater Recreation Commission - ECPv6.15.17.1//NONSGML v1.0//EN
CALSCALE:GREGORIAN
METHOD:PUBLISH
X-WR-CALNAME:Clearwater Recreation Commission
X-ORIGINAL-URL:https://clearwaterrec.org
X-WR-CALDESC:Events for Clearwater Recreation Commission
REFRESH-INTERVAL;VALUE=DURATION:PT1H
X-Robots-Tag:noindex
X-PUBLISHED-TTL:PT1H
BEGIN:VTIMEZONE
TZID:America/Chicago
BEGIN:DAYLIGHT
TZOFFSETFROM:-0600
TZOFFSETTO:-0500
TZNAME:CDT
DTSTART:20220313T080000
END:DAYLIGHT
BEGIN:STANDARD
TZOFFSETFROM:-0500
TZOFFSETTO:-0600
TZNAME:CST
DTSTART:20221106T070000
END:STANDARD
BEGIN:DAYLIGHT
TZOFFSETFROM:-0600
TZOFFSETTO:-0500
TZNAME:CDT
DTSTART:20230312T080000
END:DAYLIGHT
BEGIN:STANDARD
TZOFFSETFROM:-0500
TZOFFSETTO:-0600
TZNAME:CST
DTSTART:20231105T070000
END:STANDARD
BEGIN:DAYLIGHT
TZOFFSETFROM:-0600
TZOFFSETTO:-0500
TZNAME:CDT
DTSTART:20240310T080000
END:DAYLIGHT
BEGIN:STANDARD
TZOFFSETFROM:-0500
TZOFFSETTO:-0600
TZNAME:CST
DTSTART:20241103T070000
END:STANDARD
END:VTIMEZONE
BEGIN:VEVENT
DTSTART;TZID=America/Chicago:20230111T000000
DTEND;TZID=America/Chicago:20230111T235959
DTSTAMP:20260421T050725
CREATED:20221209T160446Z
LAST-MODIFIED:20221209T160446Z
UID:10000178-1673395200-1673481599@clearwaterrec.org
SUMMARY:Youth basketball practices
DESCRIPTION:6:00 pm - CMS gym - Semrad (1/2); Parker-Jordan (1/2) \n7:00 pm - CMS gym - Smith (3/4G); Pike (3/4B) \n6:00 pm - CIC gym - Bettles (5/6G) \n7:00 pm - CIC gym - Mellen (5/6B) \n 
URL:https://clearwaterrec.org/event/youth-basketball-practices-25/
LOCATION:Kansas
END:VEVENT
BEGIN:VEVENT
DTSTART;TZID=America/Chicago:20230111T151500
DTEND;TZID=America/Chicago:20230111T160000
DTSTAMP:20260421T050725
CREATED:20221227T161059Z
LAST-MODIFIED:20221227T161059Z
UID:10000187-1673450100-1673452800@clearwaterrec.org
SUMMARY:Bingo
DESCRIPTION:Snacks for all players and prizes for Bingo winners at this after school activity.
URL:https://clearwaterrec.org/event/bingo-4/
LOCATION:Clearwater Public Library\, 109 E. Ross\, Clearwater\, Kansas\, 67026\, United States
END:VEVENT
BEGIN:VEVENT
DTSTART;TZID=America/Chicago:20230111T183000
DTEND;TZID=America/Chicago:20230111T183000
DTSTAMP:20260421T050725
CREATED:20221114T173556Z
LAST-MODIFIED:20230102T184551Z
UID:10000147-1673461800-1673461800@clearwaterrec.org
SUMMARY:Recreation Commission Board meeting
DESCRIPTION:
URL:https://clearwaterrec.org/event/recreation-commission-board-meeting-5/
LOCATION:Clearwater Public Library\, 109 E. Ross\, Clearwater\, Kansas\, 67026\, United States
END:VEVENT
END:VCALENDAR