BEGIN:VCALENDAR
VERSION:2.0
PRODID:-//Clearwater Recreation Commission - ECPv6.15.17.1//NONSGML v1.0//EN
CALSCALE:GREGORIAN
METHOD:PUBLISH
X-ORIGINAL-URL:https://clearwaterrec.org
X-WR-CALDESC:Events for Clearwater Recreation Commission
REFRESH-INTERVAL;VALUE=DURATION:PT1H
X-Robots-Tag:noindex
X-PUBLISHED-TTL:PT1H
BEGIN:VTIMEZONE
TZID:America/Chicago
BEGIN:DAYLIGHT
TZOFFSETFROM:-0600
TZOFFSETTO:-0500
TZNAME:CDT
DTSTART:20220313T080000
END:DAYLIGHT
BEGIN:STANDARD
TZOFFSETFROM:-0500
TZOFFSETTO:-0600
TZNAME:CST
DTSTART:20221106T070000
END:STANDARD
BEGIN:DAYLIGHT
TZOFFSETFROM:-0600
TZOFFSETTO:-0500
TZNAME:CDT
DTSTART:20230312T080000
END:DAYLIGHT
BEGIN:STANDARD
TZOFFSETFROM:-0500
TZOFFSETTO:-0600
TZNAME:CST
DTSTART:20231105T070000
END:STANDARD
BEGIN:DAYLIGHT
TZOFFSETFROM:-0600
TZOFFSETTO:-0500
TZNAME:CDT
DTSTART:20240310T080000
END:DAYLIGHT
BEGIN:STANDARD
TZOFFSETFROM:-0500
TZOFFSETTO:-0600
TZNAME:CST
DTSTART:20241103T070000
END:STANDARD
END:VTIMEZONE
BEGIN:VEVENT
DTSTART;TZID=America/Chicago:20230109T000000
DTEND;TZID=America/Chicago:20230109T235959
DTSTAMP:20260421T051753
CREATED:20221209T160133Z
LAST-MODIFIED:20221209T160133Z
UID:10000051-1673222400-1673308799@clearwaterrec.org
SUMMARY:Youth basketball practices
DESCRIPTION:6:00 pm - CMS gym - \n7:00 pm - CMS gym - \n6:00 pm - CIC gym - Bettles (5/6G) \n7:00 pm - CIC gym - Mellen (5/6B)
URL:https://clearwaterrec.org/event/youth-basketball-practices-23/
LOCATION:Kansas
END:VEVENT
BEGIN:VEVENT
DTSTART;TZID=America/Chicago:20230109T000000
DTEND;TZID=America/Chicago:20230109T235959
DTSTAMP:20260421T051753
CREATED:20221227T161216Z
LAST-MODIFIED:20221227T161216Z
UID:10000188-1673222400-1673308799@clearwaterrec.org
SUMMARY:Girls on the Run registration begins
DESCRIPTION:This program inspires girls of all abilities to recognize their individual strengths while building a sense of connection in a team setting. At the end of the season in May\, the team completes a 5K together. Scholarships are available.
URL:https://clearwaterrec.org/event/girls-on-the-run-registration-begins/
LOCATION:Kansas
END:VEVENT
END:VCALENDAR