BEGIN:VCALENDAR
VERSION:2.0
PRODID:-//Clearwater Recreation Commission - ECPv6.15.17.1//NONSGML v1.0//EN
CALSCALE:GREGORIAN
METHOD:PUBLISH
X-WR-CALNAME:Clearwater Recreation Commission
X-ORIGINAL-URL:https://clearwaterrec.org
X-WR-CALDESC:Events for Clearwater Recreation Commission
REFRESH-INTERVAL;VALUE=DURATION:PT1H
X-Robots-Tag:noindex
X-PUBLISHED-TTL:PT1H
BEGIN:VTIMEZONE
TZID:America/Chicago
BEGIN:DAYLIGHT
TZOFFSETFROM:-0600
TZOFFSETTO:-0500
TZNAME:CDT
DTSTART:20210314T080000
END:DAYLIGHT
BEGIN:STANDARD
TZOFFSETFROM:-0500
TZOFFSETTO:-0600
TZNAME:CST
DTSTART:20211107T070000
END:STANDARD
BEGIN:DAYLIGHT
TZOFFSETFROM:-0600
TZOFFSETTO:-0500
TZNAME:CDT
DTSTART:20220313T080000
END:DAYLIGHT
BEGIN:STANDARD
TZOFFSETFROM:-0500
TZOFFSETTO:-0600
TZNAME:CST
DTSTART:20221106T070000
END:STANDARD
BEGIN:DAYLIGHT
TZOFFSETFROM:-0600
TZOFFSETTO:-0500
TZNAME:CDT
DTSTART:20230312T080000
END:DAYLIGHT
BEGIN:STANDARD
TZOFFSETFROM:-0500
TZOFFSETTO:-0600
TZNAME:CST
DTSTART:20231105T070000
END:STANDARD
END:VTIMEZONE
BEGIN:VEVENT
DTSTART;TZID=America/Chicago:20221115T000000
DTEND;TZID=America/Chicago:20221115T235959
DTSTAMP:20260421T080013
CREATED:20221110T163759Z
LAST-MODIFIED:20221110T163759Z
UID:10000135-1668470400-1668556799@clearwaterrec.org
SUMMARY:Youth basketball practices
DESCRIPTION:6:00 pm - CMS gym - Winter (1/2); Semrad (1/2) \n7:00 pm - CMS gym - Parker-Jordan (1/2) \n6:00 pm - CIC gym - \n7:00 pm - CIC gym - Hastings (5/6G)
URL:https://clearwaterrec.org/event/youth-basketball-practices-2/
LOCATION:Kansas
END:VEVENT
BEGIN:VEVENT
DTSTART;TZID=America/Chicago:20221115T151500
DTEND;TZID=America/Chicago:20221115T160000
DTSTAMP:20260421T080013
CREATED:20221103T173443Z
LAST-MODIFIED:20221109T163156Z
UID:10000127-1668525300-1668528000@clearwaterrec.org
SUMMARY:Girls Run!
DESCRIPTION:All 3rd-6th grade girls are invited to join us for a fun after school running program leading up to the 2 mile Turkey Trot on November 22. A coach will instruct the runners in a positive environment and we will also provide snacks. All girls who participate in the program and register for the Turkey Trot will receive a special pair of holiday socks. There is no cost to participate in the running program but the Turkey Trot registration is $11 (includes t-shirt and mini pie at the finish line.) \n*While the running program is free\, we do request if your daughter is going to attend that you text us at 620-584-2323 so we can plan accordingly.
URL:https://clearwaterrec.org/event/girls-run/2022-11-15/
LOCATION:Clearwater Elementary West gym\, 100 S. Prospect\, Clearwater\, KS\, 67037\, United States
END:VEVENT
END:VCALENDAR