BEGIN:VCALENDAR
VERSION:2.0
PRODID:-//Clearwater Recreation Commission - ECPv6.15.17.1//NONSGML v1.0//EN
CALSCALE:GREGORIAN
METHOD:PUBLISH
X-WR-CALNAME:Clearwater Recreation Commission
X-ORIGINAL-URL:https://clearwaterrec.org
X-WR-CALDESC:Events for Clearwater Recreation Commission
REFRESH-INTERVAL;VALUE=DURATION:PT1H
X-Robots-Tag:noindex
X-PUBLISHED-TTL:PT1H
BEGIN:VTIMEZONE
TZID:America/Chicago
BEGIN:DAYLIGHT
TZOFFSETFROM:-0600
TZOFFSETTO:-0500
TZNAME:CDT
DTSTART:20210314T080000
END:DAYLIGHT
BEGIN:STANDARD
TZOFFSETFROM:-0500
TZOFFSETTO:-0600
TZNAME:CST
DTSTART:20211107T070000
END:STANDARD
BEGIN:DAYLIGHT
TZOFFSETFROM:-0600
TZOFFSETTO:-0500
TZNAME:CDT
DTSTART:20220313T080000
END:DAYLIGHT
BEGIN:STANDARD
TZOFFSETFROM:-0500
TZOFFSETTO:-0600
TZNAME:CST
DTSTART:20221106T070000
END:STANDARD
BEGIN:DAYLIGHT
TZOFFSETFROM:-0600
TZOFFSETTO:-0500
TZNAME:CDT
DTSTART:20230312T080000
END:DAYLIGHT
BEGIN:STANDARD
TZOFFSETFROM:-0500
TZOFFSETTO:-0600
TZNAME:CST
DTSTART:20231105T070000
END:STANDARD
END:VTIMEZONE
BEGIN:VEVENT
DTSTART;TZID=America/Chicago:20220908T080000
DTEND;TZID=America/Chicago:20220908T170000
DTSTAMP:20260421T110059
CREATED:20220818T171024Z
LAST-MODIFIED:20220818T171024Z
UID:10000070-1662624000-1662656400@clearwaterrec.org
SUMMARY:1st/2nd grade Volleyball Instructional Clinic registration deadline
DESCRIPTION:This program will focus on fundamental training and concentrate on individual skills. \nClinic dates: September 28\, October 5 & 12 \nTime: 6:00 pm - 6:45 pm \nFee: $20 per player (each player will receive their own volleyball to keep on the last night)
URL:https://clearwaterrec.org/event/1st-2nd-grade-volleyball-instructional-clinic-registration-deadline/
LOCATION:Kansas
END:VEVENT
END:VCALENDAR