BEGIN:VCALENDAR
VERSION:2.0
PRODID:-//Clearwater Recreation Commission - ECPv6.15.17.1//NONSGML v1.0//EN
CALSCALE:GREGORIAN
METHOD:PUBLISH
X-WR-CALNAME:Clearwater Recreation Commission
X-ORIGINAL-URL:https://clearwaterrec.org
X-WR-CALDESC:Events for Clearwater Recreation Commission
REFRESH-INTERVAL;VALUE=DURATION:PT1H
X-Robots-Tag:noindex
X-PUBLISHED-TTL:PT1H
BEGIN:VTIMEZONE
TZID:America/Chicago
BEGIN:DAYLIGHT
TZOFFSETFROM:-0600
TZOFFSETTO:-0500
TZNAME:CDT
DTSTART:20210314T080000
END:DAYLIGHT
BEGIN:STANDARD
TZOFFSETFROM:-0500
TZOFFSETTO:-0600
TZNAME:CST
DTSTART:20211107T070000
END:STANDARD
BEGIN:DAYLIGHT
TZOFFSETFROM:-0600
TZOFFSETTO:-0500
TZNAME:CDT
DTSTART:20220313T080000
END:DAYLIGHT
BEGIN:STANDARD
TZOFFSETFROM:-0500
TZOFFSETTO:-0600
TZNAME:CST
DTSTART:20221106T070000
END:STANDARD
BEGIN:DAYLIGHT
TZOFFSETFROM:-0600
TZOFFSETTO:-0500
TZNAME:CDT
DTSTART:20230312T080000
END:DAYLIGHT
BEGIN:STANDARD
TZOFFSETFROM:-0500
TZOFFSETTO:-0600
TZNAME:CST
DTSTART:20231105T070000
END:STANDARD
END:VTIMEZONE
BEGIN:VEVENT
DTSTART;TZID=America/Chicago:20220620T180000
DTEND;TZID=America/Chicago:20220620T180000
DTSTAMP:20260421T155133
CREATED:20220525T135421Z
LAST-MODIFIED:20220525T135429Z
UID:10000028-1655748000-1655748000@clearwaterrec.org
SUMMARY:T-Ball – 3 (Bieler) vs. 1 (Wilmas)
DESCRIPTION:
URL:https://clearwaterrec.org/event/t-ball-3-bieler-vs-1-wilmas/
LOCATION:City Park\, 600 E Ross\, Clearwater\, KS\, 67026\, United States
CATEGORIES:T-Ball
END:VEVENT
BEGIN:VEVENT
DTSTART;TZID=America/Chicago:20220620T190000
DTEND;TZID=America/Chicago:20220620T190000
DTSTAMP:20260421T155133
CREATED:20220525T135458Z
LAST-MODIFIED:20220525T135534Z
UID:10000029-1655751600-1655751600@clearwaterrec.org
SUMMARY:T-Ball – 2 (Mercer) vs. 5 (Spencer)
DESCRIPTION:
URL:https://clearwaterrec.org/event/t-ball-2-vs-5/
LOCATION:City Park\, 600 E Ross\, Clearwater\, KS\, 67026\, United States
CATEGORIES:T-Ball
END:VEVENT
BEGIN:VEVENT
DTSTART;TZID=America/Chicago:20220620T200000
DTEND;TZID=America/Chicago:20220620T200000
DTSTAMP:20260421T155133
CREATED:20220525T135550Z
LAST-MODIFIED:20220525T135633Z
UID:10000030-1655755200-1655755200@clearwaterrec.org
SUMMARY:T-Ball – 6 (Weber) vs. 4 (Herring)
DESCRIPTION:
URL:https://clearwaterrec.org/event/t-ball-6-vs-4/
LOCATION:City Park\, 600 E Ross\, Clearwater\, KS\, 67026\, United States
CATEGORIES:T-Ball
END:VEVENT
END:VCALENDAR